BEGIN:VCALENDAR
VERSION:2.0
PRODID:-//Fotografie in Gent | MaeVaRPhotography - ECPv6.15.20//NONSGML v1.0//EN
CALSCALE:GREGORIAN
METHOD:PUBLISH
X-WR-CALNAME:Fotografie in Gent | MaeVaRPhotography
X-ORIGINAL-URL:https://maevarphotography.be
X-WR-CALDESC:Evenementen voor Fotografie in Gent | MaeVaRPhotography
REFRESH-INTERVAL;VALUE=DURATION:PT1H
X-Robots-Tag:noindex
X-PUBLISHED-TTL:PT1H
BEGIN:VTIMEZONE
TZID:Europe/Brussels
BEGIN:DAYLIGHT
TZOFFSETFROM:+0100
TZOFFSETTO:+0200
TZNAME:CEST
DTSTART:20230326T010000
END:DAYLIGHT
BEGIN:STANDARD
TZOFFSETFROM:+0200
TZOFFSETTO:+0100
TZNAME:CET
DTSTART:20231029T010000
END:STANDARD
BEGIN:DAYLIGHT
TZOFFSETFROM:+0100
TZOFFSETTO:+0200
TZNAME:CEST
DTSTART:20240331T010000
END:DAYLIGHT
BEGIN:STANDARD
TZOFFSETFROM:+0200
TZOFFSETTO:+0100
TZNAME:CET
DTSTART:20241027T010000
END:STANDARD
BEGIN:DAYLIGHT
TZOFFSETFROM:+0100
TZOFFSETTO:+0200
TZNAME:CEST
DTSTART:20250330T010000
END:DAYLIGHT
BEGIN:STANDARD
TZOFFSETFROM:+0200
TZOFFSETTO:+0100
TZNAME:CET
DTSTART:20251026T010000
END:STANDARD
END:VTIMEZONE
BEGIN:VEVENT
DTSTART;TZID=Europe/Brussels:20241017T200000
DTEND;TZID=Europe/Brussels:20241017T220000
DTSTAMP:20260421T204326
CREATED:20240911T132544Z
LAST-MODIFIED:20240911T132736Z
UID:13542-1729195200-1729202400@maevarphotography.be
SUMMARY:Breedbeeld In Gesprek - Gespreksavond Fotografie - Gent
DESCRIPTION:Breedbeeld In Gesprek komt naar Gent! Een gratis gespreksavond voor en door fotografen. \nRebecca De Cavel\, Hannes Couvreur en nog één andere te bevestigen fotograaf vertellen graag over hun werk en wat hen inspireert. Jan Coddé is van de partij als moderator. \n\nMeer info op : https://breedbeeld.org
URL:https://maevarphotography.be/event/breedbeeld-in-gesprek-gespreksavond-fotografie-gent/
LOCATION:Lakenmetershuis\, Vrijdagmarkt 24\, Gent\, Oost-Vlaanderen\, 9000
CATEGORIES:Breedbeeld,Fotografie,Gent
ATTACH;FMTTYPE=image/png:https://maevarphotography.be/wp-content/uploads/2024/09/Breedbeeld_InGesprek-20241017.png
END:VEVENT
END:VCALENDAR