BEGIN:VCALENDAR
VERSION:2.0
PRODID:-//Fotografie in Gent | MaeVaRPhotography - ECPv6.15.20//NONSGML v1.0//EN
CALSCALE:GREGORIAN
METHOD:PUBLISH
X-WR-CALNAME:Fotografie in Gent | MaeVaRPhotography
X-ORIGINAL-URL:https://maevarphotography.be
X-WR-CALDESC:Evenementen voor Fotografie in Gent | MaeVaRPhotography
REFRESH-INTERVAL;VALUE=DURATION:PT1H
X-Robots-Tag:noindex
X-PUBLISHED-TTL:PT1H
BEGIN:VTIMEZONE
TZID:Europe/Brussels
BEGIN:DAYLIGHT
TZOFFSETFROM:+0100
TZOFFSETTO:+0200
TZNAME:CEST
DTSTART:20230326T010000
END:DAYLIGHT
BEGIN:STANDARD
TZOFFSETFROM:+0200
TZOFFSETTO:+0100
TZNAME:CET
DTSTART:20231029T010000
END:STANDARD
BEGIN:DAYLIGHT
TZOFFSETFROM:+0100
TZOFFSETTO:+0200
TZNAME:CEST
DTSTART:20240331T010000
END:DAYLIGHT
BEGIN:STANDARD
TZOFFSETFROM:+0200
TZOFFSETTO:+0100
TZNAME:CET
DTSTART:20241027T010000
END:STANDARD
BEGIN:DAYLIGHT
TZOFFSETFROM:+0100
TZOFFSETTO:+0200
TZNAME:CEST
DTSTART:20250330T010000
END:DAYLIGHT
BEGIN:STANDARD
TZOFFSETFROM:+0200
TZOFFSETTO:+0100
TZNAME:CET
DTSTART:20251026T010000
END:STANDARD
END:VTIMEZONE
BEGIN:VEVENT
DTSTART;TZID=Europe/Brussels:20241012T100000
DTEND;TZID=Europe/Brussels:20241012T180000
DTSTAMP:20260421T173540
CREATED:20240914T195600Z
LAST-MODIFIED:20240914T195754Z
UID:13568-1728727200-1728756000@maevarphotography.be
SUMMARY:Fotosalon fotoclub De Kern Gent -  Zaal De Zulle
DESCRIPTION:Voor de 44ste keer organiseert fotoclub De Kern Gent haar jaarlijkse fototentoonstelling.\nIedereen is welkom in zaal De Zulle te Wondelgem.
URL:https://maevarphotography.be/event/fotosalon-fotoclub-de-kern-gent-zaal-de-zulle/
LOCATION:Polyvalente zaal De Zulle\, Botestraat 98\, Wondelgem\, Oost-Vlaanderen\, 9032\, België
CATEGORIES:Fotografie,Gent,Tentoonstelling
ATTACH;FMTTYPE=image/webp:https://maevarphotography.be/wp-content/uploads/2024/09/DeKern_20240914.webp
END:VEVENT
END:VCALENDAR