BEGIN:VCALENDAR
VERSION:2.0
PRODID:-//Fotografie in Gent | MaeVaRPhotography - ECPv6.15.20//NONSGML v1.0//EN
CALSCALE:GREGORIAN
METHOD:PUBLISH
X-WR-CALNAME:Fotografie in Gent | MaeVaRPhotography
X-ORIGINAL-URL:https://maevarphotography.be
X-WR-CALDESC:Evenementen voor Fotografie in Gent | MaeVaRPhotography
REFRESH-INTERVAL;VALUE=DURATION:PT1H
X-Robots-Tag:noindex
X-PUBLISHED-TTL:PT1H
BEGIN:VTIMEZONE
TZID:Europe/Brussels
BEGIN:DAYLIGHT
TZOFFSETFROM:+0100
TZOFFSETTO:+0200
TZNAME:CEST
DTSTART:20230326T010000
END:DAYLIGHT
BEGIN:STANDARD
TZOFFSETFROM:+0200
TZOFFSETTO:+0100
TZNAME:CET
DTSTART:20231029T010000
END:STANDARD
BEGIN:DAYLIGHT
TZOFFSETFROM:+0100
TZOFFSETTO:+0200
TZNAME:CEST
DTSTART:20240331T010000
END:DAYLIGHT
BEGIN:STANDARD
TZOFFSETFROM:+0200
TZOFFSETTO:+0100
TZNAME:CET
DTSTART:20241027T010000
END:STANDARD
BEGIN:DAYLIGHT
TZOFFSETFROM:+0100
TZOFFSETTO:+0200
TZNAME:CEST
DTSTART:20250330T010000
END:DAYLIGHT
BEGIN:STANDARD
TZOFFSETFROM:+0200
TZOFFSETTO:+0100
TZNAME:CET
DTSTART:20251026T010000
END:STANDARD
END:VTIMEZONE
BEGIN:VEVENT
DTSTART;TZID=Europe/Brussels:20241107T193000
DTEND;TZID=Europe/Brussels:20241107T220000
DTSTAMP:20260421T173329
CREATED:20241008T071631Z
LAST-MODIFIED:20241008T071851Z
UID:13715-1731007800-1731016800@maevarphotography.be
SUMMARY:KISP -  WOORD over BEELD #32  -  Carmen De Vos
DESCRIPTION:Op donderdag 7 november\, trappen we het seizoen van de #WOB lezingen af met de straffe beelden van Carmen De Vos.\n\nDe Belgische fotografe en visuele kunstenaar Carmen De Vos fotografeert sinds 2008 voor de Vlaamse pers. Zowel Humo\, Knack\, De Morgen\, De Standaard & Psychologies publiceren met grote regelmaat haar werk.\n\nIn 2018 bundelde Carmen haar sensuele Polaroids in de fraai vormgegeven monografie The Eyes of the Fox.\nIn 2020 werd Carmen de winnaar van de Louis Paul Boon-prijs voor haar kunstfotografie en haar werk voor de Belgische pers.\nIn 2023 verscheen haar limited edition fotoboek ‘Belly Riot’ waarvoor ze een pronte parade bad ass zwangere vrouwen fotografeerde.
URL:https://maevarphotography.be/event/kisp-woord-over-beeld-32-carmen-de-vos/
LOCATION:Auditorium Arteveldehogeschool\, Industrieweg 232\, Gent\, Oost-Vlaanderen\, 9030
CATEGORIES:#WOB,Fotografie,Gent,KISP,Lezing
ATTACH;FMTTYPE=image/jpeg:https://maevarphotography.be/wp-content/uploads/2024/10/Kisp_WoordInBeeld-32.jpg
END:VEVENT
END:VCALENDAR