BEGIN:VCALENDAR
VERSION:2.0
PRODID:-//Fotografie in Gent | MaeVaRPhotography - ECPv6.15.20//NONSGML v1.0//EN
CALSCALE:GREGORIAN
METHOD:PUBLISH
X-WR-CALNAME:Fotografie in Gent | MaeVaRPhotography
X-ORIGINAL-URL:https://maevarphotography.be
X-WR-CALDESC:Evenementen voor Fotografie in Gent | MaeVaRPhotography
REFRESH-INTERVAL;VALUE=DURATION:PT1H
X-Robots-Tag:noindex
X-PUBLISHED-TTL:PT1H
BEGIN:VTIMEZONE
TZID:Europe/Brussels
BEGIN:DAYLIGHT
TZOFFSETFROM:+0100
TZOFFSETTO:+0200
TZNAME:CEST
DTSTART:20230326T010000
END:DAYLIGHT
BEGIN:STANDARD
TZOFFSETFROM:+0200
TZOFFSETTO:+0100
TZNAME:CET
DTSTART:20231029T010000
END:STANDARD
BEGIN:DAYLIGHT
TZOFFSETFROM:+0100
TZOFFSETTO:+0200
TZNAME:CEST
DTSTART:20240331T010000
END:DAYLIGHT
BEGIN:STANDARD
TZOFFSETFROM:+0200
TZOFFSETTO:+0100
TZNAME:CET
DTSTART:20241027T010000
END:STANDARD
BEGIN:DAYLIGHT
TZOFFSETFROM:+0100
TZOFFSETTO:+0200
TZNAME:CEST
DTSTART:20250330T010000
END:DAYLIGHT
BEGIN:STANDARD
TZOFFSETFROM:+0200
TZOFFSETTO:+0100
TZNAME:CET
DTSTART:20251026T010000
END:STANDARD
END:VTIMEZONE
BEGIN:VEVENT
DTSTART;TZID=Europe/Brussels:20241011T193000
DTEND;TZID=Europe/Brussels:20241011T220000
DTSTAMP:20260422T193138
CREATED:20240806T181405Z
LAST-MODIFIED:20240828T144422Z
UID:12477-1728675000-1728684000@maevarphotography.be
SUMMARY:NNG - Clubavond
DESCRIPTION:Thema ” foto’s genomen tijdens september en oktober”
URL:https://maevarphotography.be/event/nng-clubavond-3/
LOCATION:Natuurcentrum Jan Hublé – Bourgoyen-Ossemeersen\, Driepikkelstraat 32\, Gent\, Oost-Vlaanderen\, 9030\, België
CATEGORIES:Fotografie,Gent,Natuurfotografie,Natuurpunt,NNG Regio Gent,Vergadering
ATTACH;FMTTYPE=image/jpeg:https://maevarphotography.be/wp-content/uploads/2024/08/20240716_091753-rotated-e1723129540283.jpg
ORGANIZER;CN="Fotoclub NNG Regio Gent":MAILTO:luc.van.brussel@telenet.be
END:VEVENT
END:VCALENDAR