BEGIN:VCALENDAR
VERSION:2.0
PRODID:-//Fotografie in Gent | MaeVaRPhotography - ECPv6.15.20//NONSGML v1.0//EN
CALSCALE:GREGORIAN
METHOD:PUBLISH
X-WR-CALNAME:Fotografie in Gent | MaeVaRPhotography
X-ORIGINAL-URL:https://maevarphotography.be
X-WR-CALDESC:Evenementen voor Fotografie in Gent | MaeVaRPhotography
REFRESH-INTERVAL;VALUE=DURATION:PT1H
X-Robots-Tag:noindex
X-PUBLISHED-TTL:PT1H
BEGIN:VTIMEZONE
TZID:Europe/Brussels
BEGIN:DAYLIGHT
TZOFFSETFROM:+0100
TZOFFSETTO:+0200
TZNAME:CEST
DTSTART:20240331T010000
END:DAYLIGHT
BEGIN:STANDARD
TZOFFSETFROM:+0200
TZOFFSETTO:+0100
TZNAME:CET
DTSTART:20241027T010000
END:STANDARD
BEGIN:DAYLIGHT
TZOFFSETFROM:+0100
TZOFFSETTO:+0200
TZNAME:CEST
DTSTART:20250330T010000
END:DAYLIGHT
BEGIN:STANDARD
TZOFFSETFROM:+0200
TZOFFSETTO:+0100
TZNAME:CET
DTSTART:20251026T010000
END:STANDARD
BEGIN:DAYLIGHT
TZOFFSETFROM:+0100
TZOFFSETTO:+0200
TZNAME:CEST
DTSTART:20260329T010000
END:DAYLIGHT
BEGIN:STANDARD
TZOFFSETFROM:+0200
TZOFFSETTO:+0100
TZNAME:CET
DTSTART:20261025T010000
END:STANDARD
END:VTIMEZONE
BEGIN:VEVENT
DTSTART;TZID=Europe/Brussels:20250221T200000
DTEND;TZID=Europe/Brussels:20250221T223000
DTSTAMP:20260421T185418
CREATED:20250203T190212Z
LAST-MODIFIED:20250203T190212Z
UID:15680-1740168000-1740177000@maevarphotography.be
SUMMARY:NNG - Fotografiecafé  -  Hans Vermeulen  |   Natuur in muziek  Muziek in natuur
DESCRIPTION:In het zesde fotografiecafé geeft gastspreker Hans Vermeulen een bloemlezing over hoe tal van componisten en liedjesschrijvers zich lieten en laten inspireren door de natuur\, over hoe tal van planten en dieren “muziek” maken én wat deze natuurgeluiden met ons doen.\nIn deze lezing maak je kennis met natuurgeïnspireerde muziek en componisten. \nHans Vermeulen\, lesgever Natuuracademie en zelf muziekleerkracht en klassiek pianist\, laat je kennismaken met natuurgeïnspireerde muziek en componisten.
URL:https://maevarphotography.be/event/nng-fotografiecafe-hans-vermeulen-natuur-in-muziek-muziek-in-natuur/
LOCATION:Natuurcentrum Jan Hublé – Bourgoyen-Ossemeersen\, Driepikkelstraat 32\, Gent\, Oost-Vlaanderen\, 9030\, België
CATEGORIES:Fotografie,Fotografiecafé,Gent,Natuurfotografie,Natuurpunt,NNG Regio Gent
ATTACH;FMTTYPE=image/png:https://maevarphotography.be/wp-content/uploads/2025/02/HansVermeulen-png.webp
ORGANIZER;CN="Fotoclub NNG Regio Gent":MAILTO:luc.van.brussel@telenet.be
END:VEVENT
END:VCALENDAR