BEGIN:VCALENDAR
VERSION:2.0
PRODID:-//Fotografie in Gent | MaeVaRPhotography - ECPv6.15.20//NONSGML v1.0//EN
CALSCALE:GREGORIAN
METHOD:PUBLISH
X-WR-CALNAME:Fotografie in Gent | MaeVaRPhotography
X-ORIGINAL-URL:https://maevarphotography.be
X-WR-CALDESC:Evenementen voor Fotografie in Gent | MaeVaRPhotography
REFRESH-INTERVAL;VALUE=DURATION:PT1H
X-Robots-Tag:noindex
X-PUBLISHED-TTL:PT1H
BEGIN:VTIMEZONE
TZID:Europe/Brussels
BEGIN:DAYLIGHT
TZOFFSETFROM:+0100
TZOFFSETTO:+0200
TZNAME:CEST
DTSTART:20250330T010000
END:DAYLIGHT
BEGIN:STANDARD
TZOFFSETFROM:+0200
TZOFFSETTO:+0100
TZNAME:CET
DTSTART:20251026T010000
END:STANDARD
BEGIN:DAYLIGHT
TZOFFSETFROM:+0100
TZOFFSETTO:+0200
TZNAME:CEST
DTSTART:20260329T010000
END:DAYLIGHT
BEGIN:STANDARD
TZOFFSETFROM:+0200
TZOFFSETTO:+0100
TZNAME:CET
DTSTART:20261025T010000
END:STANDARD
BEGIN:DAYLIGHT
TZOFFSETFROM:+0100
TZOFFSETTO:+0200
TZNAME:CEST
DTSTART:20270328T010000
END:DAYLIGHT
BEGIN:STANDARD
TZOFFSETFROM:+0200
TZOFFSETTO:+0100
TZNAME:CET
DTSTART:20271031T010000
END:STANDARD
END:VTIMEZONE
BEGIN:VEVENT
DTSTART;TZID=Europe/Brussels:20260220T200000
DTEND;TZID=Europe/Brussels:20260220T220000
DTSTAMP:20260422T121212
CREATED:20260202T203810Z
LAST-MODIFIED:20260202T203810Z
UID:16433-1771617600-1771624800@maevarphotography.be
SUMMARY:NNG - Fotografiecafé  -  Lezing door natuurfotografe Sandy Spaenhoven - “NATUURFOTOGRAFIE ZONDER SCRIPT”
DESCRIPTION:“NATUURFOTOGRAFIE ZONDER SCRIPT” \nVerrassend veelzijdig: dat is natuurfotografie. Zelden ga ik op pad met een strak plan.\nVeel liever laat ik me leiden door wat zich aandient: een prachtig lichtspel\, een\nspontane ontmoeting\, een detail dat mijn aandacht trekt.\nIn deze lezing neem ik je mee op een visuele ontdekkingstocht door de natuur in\nBelgië en net over de grens. Met mijn foto’s laat ik zien hoe kleur\, licht en toeval\nsamenkomen\, en waarom juist het onverwachte – het loslaten van controle – zo’n rijke\nbron van inspiratie is. \nDeze presentatie biedt geen technisch stappenplan\, maar een uitnodiging om anders\nte kijken naar de natuur om je heen: met aandacht\, nieuwsgierigheid en verwondering.\nOntdek hoe kleine en grote verrassingen je blik kunnen sturen en laat je inspireren door alles wat de natuur te bieden heeft! \nSandy Spaenhoven \nIn een wereld vol haast\, vind ik in de natuur een unieke balans van rust en avontuur. Ik\nzoek graag deze mix van contrasten op en wat mij raakt\, leg ik vast in een kleurrijk en\nexpressief beeld. \nNatuurfotografie is voor mij zoveel meer dan een druk op de knop. Het is een\nuitnodiging om even stil te staan bij een intens gevoel of een onverwachte\nontmoeting. Als fotograaf zoek ik naar momenten waarop alles samenvalt: het licht\,\neen intieme connectie met het landschap\, de verrassing van het onverwachte.\nVerstilling in combinatie met verwondering. \nZoals een mistige ochtend\, wanneer kwetterende kokmeeuwen ontwaken terwijl het\nlandschap baadt in een mystiek lichtspel. Of het ogenblik waarop een ree plots\ntevoorschijn springt en onze nieuwsgierige blikken elkaar kruisen. Het zijn heerlijke\n‘kippenvelmomentjes’! \nIn zulke situaties wil ik niets liever dan de essentie van mijn beleving vastleggen. Eén\nbeeld\, als stille getuige van wat ik zie én voel. Altijd met respect voor het dier of\nlandschap dat ik fotografeer. Met veel aandacht voor sfeer\, compositie en kleur\,\nwaarbij de kracht volledig uitgaat van het decor zelf: de natuur met haar onuitputtelijke\nverhalen. \nMeer info: https://sandyspaenhoven.com\n \nDe lezing gaat door in het:\nNatuurcentrum “Jan Hublé”\nDriepikkelstraat 32\,\n9030 Gent \nWanneer: Vrijdag 20 februari 2026\nDeuren gaan open om 19:30 uur en de lezing start om 20 uur \nPrijs: 6.0 € \nInschrijven: Klik hier\nMax aantal deelnemers:  50 personen \n 
URL:https://maevarphotography.be/event/nng-fotografiecafe-lezing-door-natuurfotografe-sandy-spaenhoven-natuurfotografie-zonder-script/
LOCATION:Natuurcentrum Jan Hublé – Bourgoyen-Ossemeersen\, Driepikkelstraat 32\, Gent\, Oost-Vlaanderen\, 9030\, België
CATEGORIES:Fotografie,Fotografiecafé,Gent,Natuurfotografie,Natuurpunt,NNG Regio Gent
ATTACH;FMTTYPE=image/jpeg:https://maevarphotography.be/wp-content/uploads/2026/02/SandySpaenhoven.webp
ORGANIZER;CN="Fotoclub NNG Regio Gent":MAILTO:luc.van.brussel@telenet.be
END:VEVENT
END:VCALENDAR