BEGIN:VCALENDAR
VERSION:2.0
PRODID:-//Fotografie in Gent | MaeVaRPhotography - ECPv6.15.20//NONSGML v1.0//EN
CALSCALE:GREGORIAN
METHOD:PUBLISH
X-WR-CALNAME:Fotografie in Gent | MaeVaRPhotography
X-ORIGINAL-URL:https://maevarphotography.be
X-WR-CALDESC:Evenementen voor Fotografie in Gent | MaeVaRPhotography
REFRESH-INTERVAL;VALUE=DURATION:PT1H
X-Robots-Tag:noindex
X-PUBLISHED-TTL:PT1H
BEGIN:VTIMEZONE
TZID:Europe/Brussels
BEGIN:DAYLIGHT
TZOFFSETFROM:+0100
TZOFFSETTO:+0200
TZNAME:CEST
DTSTART:20240331T010000
END:DAYLIGHT
BEGIN:STANDARD
TZOFFSETFROM:+0200
TZOFFSETTO:+0100
TZNAME:CET
DTSTART:20241027T010000
END:STANDARD
BEGIN:DAYLIGHT
TZOFFSETFROM:+0100
TZOFFSETTO:+0200
TZNAME:CEST
DTSTART:20250330T010000
END:DAYLIGHT
BEGIN:STANDARD
TZOFFSETFROM:+0200
TZOFFSETTO:+0100
TZNAME:CET
DTSTART:20251026T010000
END:STANDARD
BEGIN:DAYLIGHT
TZOFFSETFROM:+0100
TZOFFSETTO:+0200
TZNAME:CEST
DTSTART:20260329T010000
END:DAYLIGHT
BEGIN:STANDARD
TZOFFSETFROM:+0200
TZOFFSETTO:+0100
TZNAME:CET
DTSTART:20261025T010000
END:STANDARD
END:VTIMEZONE
BEGIN:VEVENT
DTSTART;TZID=Europe/Brussels:20250321T200000
DTEND;TZID=Europe/Brussels:20250321T223000
DTSTAMP:20260421T170730
CREATED:20250203T191352Z
LAST-MODIFIED:20250203T191607Z
UID:15684-1742587200-1742596200@maevarphotography.be
SUMMARY:NNG - Fotografiecafé  -  Michel Lucas  |   Hoge Venen
DESCRIPTION:In het zevende fotografiecafé geeft gastspreker Michel Lucas inkijk in zijn werk als bioloog en landschapsfotograaf. \nMichel is bioloog en gepassioneerd landschapsfotograaf. Hij won nationale en internationale prijzen met zijn foto’s\, publiceert in diverse tijdschriften en geeft regelmatig lezingen en workshops. Ook heeft hij een fotoboek op zijn naam staan: HOGE VENEN\, weidse en intieme landschappen \nSinds 2009 legt hij zich in zijn fotografie volledig toe op landschapsfotografie\, in het bijzonder op natuurlijke landschappen. Daarbij staan compositie en sfeer centraal. Veel van zijn foto’s maakt hij dichtbij huis (Overasseltse en Hatertse Vennen\, Mookerheide\, Jansberg\, Maasduinen). Hij fotografeert ook graag op meer afgelegen plekken en bij extreem weer. Zo werd hij bekend met zijn unieke portfolio’s herfst en winter van de Hoge Venen (België). De laatste jaren heeft ook Schotland een speciaal plekje in zijn hart veroverd. Michel draagt met enthousiasme zijn kennis over tijdens workshops en fotoreizen naar de Hoge Venen en Schotland \nMeer info:  MICHEL LUCAS LANDSCAPES : Michel
URL:https://maevarphotography.be/event/nng-fotografiecafe-michel-lucas-hoge-venen/
LOCATION:Natuurcentrum Jan Hublé – Bourgoyen-Ossemeersen\, Driepikkelstraat 32\, Gent\, Oost-Vlaanderen\, 9030\, België
CATEGORIES:Fotografie,Fotografiecafé,Gent,Natuurfotografie,Natuurpunt,NNG Regio Gent
ATTACH;FMTTYPE=image/jpeg:https://maevarphotography.be/wp-content/uploads/2025/02/MichelLucas.webp
ORGANIZER;CN="Fotoclub NNG Regio Gent":MAILTO:luc.van.brussel@telenet.be
END:VEVENT
END:VCALENDAR