BEGIN:VCALENDAR
VERSION:2.0
PRODID:-//Fotografie in Gent | MaeVaRPhotography - ECPv6.15.20//NONSGML v1.0//EN
CALSCALE:GREGORIAN
METHOD:PUBLISH
X-WR-CALNAME:Fotografie in Gent | MaeVaRPhotography
X-ORIGINAL-URL:https://maevarphotography.be
X-WR-CALDESC:Evenementen voor Fotografie in Gent | MaeVaRPhotography
REFRESH-INTERVAL;VALUE=DURATION:PT1H
X-Robots-Tag:noindex
X-PUBLISHED-TTL:PT1H
BEGIN:VTIMEZONE
TZID:Europe/Brussels
BEGIN:DAYLIGHT
TZOFFSETFROM:+0100
TZOFFSETTO:+0200
TZNAME:CEST
DTSTART:20240331T010000
END:DAYLIGHT
BEGIN:STANDARD
TZOFFSETFROM:+0200
TZOFFSETTO:+0100
TZNAME:CET
DTSTART:20241027T010000
END:STANDARD
BEGIN:DAYLIGHT
TZOFFSETFROM:+0100
TZOFFSETTO:+0200
TZNAME:CEST
DTSTART:20250330T010000
END:DAYLIGHT
BEGIN:STANDARD
TZOFFSETFROM:+0200
TZOFFSETTO:+0100
TZNAME:CET
DTSTART:20251026T010000
END:STANDARD
BEGIN:DAYLIGHT
TZOFFSETFROM:+0100
TZOFFSETTO:+0200
TZNAME:CEST
DTSTART:20260329T010000
END:DAYLIGHT
BEGIN:STANDARD
TZOFFSETFROM:+0200
TZOFFSETTO:+0100
TZNAME:CET
DTSTART:20261025T010000
END:STANDARD
END:VTIMEZONE
BEGIN:VEVENT
DTSTART;TZID=Europe/Brussels:20251219T200000
DTEND;TZID=Europe/Brussels:20251219T223000
DTSTAMP:20260421T170430
CREATED:20251218T183211Z
LAST-MODIFIED:20251218T183606Z
UID:16375-1766174400-1766183400@maevarphotography.be
SUMMARY:NNG - Fotografiecafé  -  Natuurfotograaf Martin Steenhaut –  “TAIGA LIFE”
DESCRIPTION:Wildlife fotograaf Martin Steenhaut heeft al vele plaatsen van onze planeet bezocht met indrukwekkende fotografie als gevolg. Sinds enkele jaren heeft hij zich gevestigd in het noorden van Finland waar hij zijn fotografie gepassioneerd verder zet. \nOp enkele kilometers van de Russische grens is de Finse taiga nu zijn achtertuin geworden. Waar de natuur nog ruw en ongeschonden is probeert hij de Finse wildlife in beeld te brengen in zijn gekende stijl. \nIn deze boeiende lezing neemt Martin u mee naar het land van veelvraten\, beren en wolven\, extreme omgevingen en keiharde winters.Benieuwd naar de natuur van hoge noorden en nieuwe inzichten in de fotografie? U komt er alles over weten op 19 December 2025 bij Natuurfotografie Natuurpunt Gent.  Niet te missen. \n\nMartin Steenhaut is een gepassioneerde natuurfotograaf \, woont in Noord Finland\, die probeert met sterke momenten en unieke blikken de schoonheid en kwetsbaarheid van onze natuur in beeld te brengen. Een all round fotograaf die wel klemtonen legt op vogels\, zoogdieren en landschappen\, steeds met het grootste respect voor zijn onderwerp. Een foto is geen trofee die je ten koste van alles mag maken. Met de altijd groeiende populariteit van de natuurfotografie komt er ongewenste druk op de natuur. Daarom is je onderwerp respecteren en verstoring vermijden een gouden regel. En die gedachte vind je ook terug in elk beeld van Martin. \nMet regelmatige expo’s\, lezingen en publicaties probeert hij zijn passie te delen met het grote publiek. Al meermaals werd zijn werk bekroond in belangrijke internationale fotowedstrijden. Met als hoogtepunten een wereldwijde 2de plaats in The World Photographic Cup in de USA\, zowat de Olympische Spelen van de beroepsfotografen. \nDaarnaast won hij de 1ste prijs in Landscapes op het beroemde Montier-en-Der fotofestival in Frankrijk. \nRecent werd hij onderscheiden met het hoge Europese QEP label\, als Qualified European Wildlife Photographer. Zijn momenten delen en zo mensen verwonderen en sensibiliseren\, blijft zijn drijfveer. \nMeer info: WEB ; https://www.martinsnature.com \nINSTA: @martinsteenhaut_photographer \nFB: Martin Steenhaut \nDe lezing gaat door in het:\nNatuurcentrum “Jan Hublé”\nDriepikkelstraat 32\,\n9030 Gent \nWanneer: Vrijdag 21 november 2025\nDeuren gaan open om 19:30 uur en de lezing start om 20 uur \nPrijs: 6 € \nInschrijven: Klik hier\nMax aantal deelnemers:  50 personen \n 
URL:https://maevarphotography.be/event/nng-fotografiecafe-natuurfotograaf-martin-steenhaut-taiga-life/
LOCATION:Natuurcentrum Jan Hublé – Bourgoyen-Ossemeersen\, Driepikkelstraat 32\, Gent\, Oost-Vlaanderen\, 9030\, België
CATEGORIES:Fotografie,Fotografiecafé,Gent,Natuurfotografie,Natuurpunt,NNG Regio Gent
ATTACH;FMTTYPE=image/jpeg:https://maevarphotography.be/wp-content/uploads/2025/12/Martin.webp
ORGANIZER;CN="Fotoclub NNG Regio Gent":MAILTO:luc.van.brussel@telenet.be
END:VEVENT
END:VCALENDAR