BEGIN:VCALENDAR
VERSION:2.0
PRODID:-//Fotografie in Gent | MaeVaRPhotography - ECPv6.15.20//NONSGML v1.0//EN
CALSCALE:GREGORIAN
METHOD:PUBLISH
X-WR-CALNAME:Fotografie in Gent | MaeVaRPhotography
X-ORIGINAL-URL:https://maevarphotography.be
X-WR-CALDESC:Evenementen voor Fotografie in Gent | MaeVaRPhotography
REFRESH-INTERVAL;VALUE=DURATION:PT1H
X-Robots-Tag:noindex
X-PUBLISHED-TTL:PT1H
BEGIN:VTIMEZONE
TZID:Europe/Brussels
BEGIN:DAYLIGHT
TZOFFSETFROM:+0100
TZOFFSETTO:+0200
TZNAME:CEST
DTSTART:20250330T010000
END:DAYLIGHT
BEGIN:STANDARD
TZOFFSETFROM:+0200
TZOFFSETTO:+0100
TZNAME:CET
DTSTART:20251026T010000
END:STANDARD
BEGIN:DAYLIGHT
TZOFFSETFROM:+0100
TZOFFSETTO:+0200
TZNAME:CEST
DTSTART:20260329T010000
END:DAYLIGHT
BEGIN:STANDARD
TZOFFSETFROM:+0200
TZOFFSETTO:+0100
TZNAME:CET
DTSTART:20261025T010000
END:STANDARD
BEGIN:DAYLIGHT
TZOFFSETFROM:+0100
TZOFFSETTO:+0200
TZNAME:CEST
DTSTART:20270328T010000
END:DAYLIGHT
BEGIN:STANDARD
TZOFFSETFROM:+0200
TZOFFSETTO:+0100
TZNAME:CET
DTSTART:20271031T010000
END:STANDARD
END:VTIMEZONE
BEGIN:VEVENT
DTSTART;TZID=Europe/Brussels:20260328T100000
DTEND;TZID=Europe/Brussels:20260328T180000
DTSTAMP:20260421T141009
CREATED:20260116T195949Z
LAST-MODIFIED:20260320T153638Z
UID:16420-1774692000-1774720800@maevarphotography.be
SUMMARY:NNG - Tentoonstelling - 28 & 29 maart 2026
DESCRIPTION:Dit jaar houdt NNG – Natuurfotografie Natuurpunt Regio Gent zijn tweede tentoonstelling.\nTijdens deze tentoonstelling kan je kennis maken met de werking van deze bijzondere fotoclub en het werk van de leden. \nMeer info volgt.\n \nDe tentoonstelling gaat door in het lokaal: \n’t Geestje\nZandloperstraat 83\, 9030 Gent \nWanneer: \nZaterdag 28 maart 2026 van 10u tot 18u\nZondag 29 maart 2026 van 10u tot 18u \nGratis toegang
URL:https://maevarphotography.be/event/nng-tentoonstelling-28-29-maart-2026/
LOCATION:Zaal ’t Geestje\, Zandloperstraat 83\, MARIAKERKE GENT\, 9030\, Belgium
CATEGORIES:Fotografie,Fotografiecafé,Gent,Natuurfotografie,Natuurpunt,NNG Regio Gent
ATTACH;FMTTYPE=image/jpeg:https://maevarphotography.be/wp-content/uploads/2026/03/Tento-2026-Banner-FB.webp
ORGANIZER;CN="Fotoclub NNG Regio Gent":MAILTO:luc.van.brussel@telenet.be
END:VEVENT
END:VCALENDAR