BEGIN:VCALENDAR
VERSION:2.0
PRODID:-//Fotografie in Gent | MaeVaRPhotography - ECPv6.15.20//NONSGML v1.0//EN
CALSCALE:GREGORIAN
METHOD:PUBLISH
X-WR-CALNAME:Fotografie in Gent | MaeVaRPhotography
X-ORIGINAL-URL:https://maevarphotography.be
X-WR-CALDESC:Evenementen voor Fotografie in Gent | MaeVaRPhotography
REFRESH-INTERVAL;VALUE=DURATION:PT1H
X-Robots-Tag:noindex
X-PUBLISHED-TTL:PT1H
BEGIN:VTIMEZONE
TZID:Europe/Brussels
BEGIN:DAYLIGHT
TZOFFSETFROM:+0100
TZOFFSETTO:+0200
TZNAME:CEST
DTSTART:20230326T010000
END:DAYLIGHT
BEGIN:STANDARD
TZOFFSETFROM:+0200
TZOFFSETTO:+0100
TZNAME:CET
DTSTART:20231029T010000
END:STANDARD
BEGIN:DAYLIGHT
TZOFFSETFROM:+0100
TZOFFSETTO:+0200
TZNAME:CEST
DTSTART:20240331T010000
END:DAYLIGHT
BEGIN:STANDARD
TZOFFSETFROM:+0200
TZOFFSETTO:+0100
TZNAME:CET
DTSTART:20241027T010000
END:STANDARD
BEGIN:DAYLIGHT
TZOFFSETFROM:+0100
TZOFFSETTO:+0200
TZNAME:CEST
DTSTART:20250330T010000
END:DAYLIGHT
BEGIN:STANDARD
TZOFFSETFROM:+0200
TZOFFSETTO:+0100
TZNAME:CET
DTSTART:20251026T010000
END:STANDARD
END:VTIMEZONE
BEGIN:VEVENT
DTSTART;VALUE=DATE:20241018
DTEND;VALUE=DATE:20241021
DTSTAMP:20260421T185059
CREATED:20240806T182122Z
LAST-MODIFIED:20240828T165057Z
UID:12479-1729209600-1729468799@maevarphotography.be
SUMMARY:NNG - WEEKEND
DESCRIPTION:Jaarlijks organiseert fotoclub NNG Natuurpunt Regio Gent voor haar leden een weekend. Dit jaar trekken we naar Beringen. \nMeer info volgt (enkel voor leden).
URL:https://maevarphotography.be/event/nng-weekend/
LOCATION:Natuurcentrum Jan Hublé – Bourgoyen-Ossemeersen\, Driepikkelstraat 32\, Gent\, Oost-Vlaanderen\, 9030\, België
CATEGORIES:Fotografie,Natuurfotografie,Natuurpunt,NNG Regio Gent,Uitstap,Weekend
ATTACH;FMTTYPE=image/jpeg:https://maevarphotography.be/wp-content/uploads/2024/08/MG_2229-scaled.jpg
ORGANIZER;CN="Fotoclub NNG Regio Gent":MAILTO:luc.van.brussel@telenet.be
END:VEVENT
END:VCALENDAR